BEGIN:VCALENDAR
VERSION:2.0
PRODID:-//destination.one//NONSGML destination.meta API//DE
X-WR-CALDESC:A calendar powered by destination.meta
X-WR-CALNAME:moelln-tourismus Kalender via destination.meta
BEGIN:VEVENT
CATEGORIES:Konzert
DESCRIPTION:Trio Luz y Sombra lässt Piazzolla auf Bach\, Bartók & Boulanger
  treffen – ein Dialog zwischen Tango Nuevo\, Jazz und Avantgarde mit eigen
 en Arrangements.\n\nmehr Informationen unter http://pages.destination.one/
 de/moelln-tourismus/streaming/detail/Event/e_101258185/encuentro
DTEND;TZID=Europe/Berlin:20260608T181500
DTSTAMP:20260422T143432Z
DTSTART;TZID=Europe/Berlin:20260608T170000
GEO:53.631980;10.709460
LOCATION:Augustinum Mölln\, Sterleyer Straße 44\, Mölln
ORGANIZER;CN=Augustinum Mölln:https://augustinum.de/moelln
SEQUENCE:0
SUMMARY:Encuentro
UID:e_101258185_iv0
URL:http://pages.destination.one/de/moelln-tourismus/streaming/detail/Event
 /e_101258185/encuentro
END:VEVENT
BEGIN:VTIMEZONE
TZID:Europe/Berlin
X-LIC-LOCATION:Europe/Berlin
BEGIN:DAYLIGHT
DTSTART:19700329T020000
RRULE:FREQ=YEARLY;BYDAY=-1SU;BYMONTH=3
TZNAME:CEST
TZOFFSETFROM:+0100
TZOFFSETTO:+0200
END:DAYLIGHT
BEGIN:STANDARD
DTSTART:19701025T030000
RRULE:FREQ=YEARLY;BYDAY=-1SU;BYMONTH=10
TZNAME:CET
TZOFFSETFROM:+0200
TZOFFSETTO:+0100
END:STANDARD
END:VTIMEZONE
END:VCALENDAR
