BEGIN:VCALENDAR
VERSION:2.0
PRODID:-//destination.one//NONSGML destination.meta API//DE
X-WR-CALDESC:A calendar powered by destination.meta
X-WR-CALNAME:moelln-tourismus Kalender via destination.meta
BEGIN:VEVENT
CATEGORIES:Theater
CATEGORIES:Bühnenkunst
CATEGORIES:Sonstiges
CATEGORIES:Sport/Freizeit
CATEGORIES:Vortrag/Lesung/Vorführung
DESCRIPTION:Uwe Spinder\, Deutschlands bekanntester Fußball-Kabarettist\, s
 timmt mit seinem WM-Special auf das Großereignis ein – 96 Jahre WM-Geschic
 hte mit Witz und Pointen.\n\nmehr Informationen unter http://pages.destina
 tion.one/de/moelln-tourismus/streaming/detail/Event/e_101258184/da-lacht-d
 er-fussball
DTEND;TZID=Europe/Berlin:20260520T210000
DTSTAMP:20260423T155726Z
DTSTART;TZID=Europe/Berlin:20260520T193000
GEO:53.630084;10.691671
LOCATION:Mölln\, Am Markt 12\, Mölln
ORGANIZER;CN=Augustinum Mölln:mailto:margit.bansbach@augustinum.de
SEQUENCE:0
SUMMARY:Da lacht der Fussball! 
UID:e_101258184_iv0
URL:http://pages.destination.one/de/moelln-tourismus/streaming/detail/Event
 /e_101258184/da-lacht-der-fussball
END:VEVENT
BEGIN:VTIMEZONE
TZID:Europe/Berlin
X-LIC-LOCATION:Europe/Berlin
BEGIN:DAYLIGHT
DTSTART:19700329T020000
RRULE:FREQ=YEARLY;BYDAY=-1SU;BYMONTH=3
TZNAME:CEST
TZOFFSETFROM:+0100
TZOFFSETTO:+0200
END:DAYLIGHT
BEGIN:STANDARD
DTSTART:19701025T030000
RRULE:FREQ=YEARLY;BYDAY=-1SU;BYMONTH=10
TZNAME:CET
TZOFFSETFROM:+0200
TZOFFSETTO:+0100
END:STANDARD
END:VTIMEZONE
END:VCALENDAR
