BEGIN:VCALENDAR
VERSION:2.0
PRODID:-//destination.one//NONSGML destination.meta API//DE
X-WR-CALDESC:A calendar powered by destination.meta
X-WR-CALNAME:moelln-tourismus Kalender via destination.meta
BEGIN:VEVENT
CATEGORIES:Vortrag/Lesung/Vorführung
DESCRIPTION:\n\nmehr Informationen unter http://pages.destination.one/de/mo
 elln-tourismus/streaming/detail/Event/e_101257505/oh-wie-sch-n-ist-bullib-
 mit-oliver-l-ck-durch-s-dschweden
DTEND;TZID=Europe/Berlin:20260529T213000
DTSTAMP:20260420T105936Z
DTSTART;TZID=Europe/Berlin:20260529T190000
GEO:53.625000;10.688200
LOCATION:Stadtbücherei \, Gudower Weg\, Mölln
ORGANIZER;CN=Stadtbücherei Mölln:mailto:stadtbuecherei@moelln.de
SEQUENCE:0
SUMMARY:Oh wie schön ist Bullibü - mit Oliver Lück durch Südschweden
UID:e_101257505_iv0
URL:http://pages.destination.one/de/moelln-tourismus/streaming/detail/Event
 /e_101257505/oh-wie-sch-n-ist-bullib-mit-oliver-l-ck-durch-s-dschweden
END:VEVENT
BEGIN:VTIMEZONE
TZID:Europe/Berlin
X-LIC-LOCATION:Europe/Berlin
BEGIN:DAYLIGHT
DTSTART:19700329T020000
RRULE:FREQ=YEARLY;BYDAY=-1SU;BYMONTH=3
TZNAME:CEST
TZOFFSETFROM:+0100
TZOFFSETTO:+0200
END:DAYLIGHT
BEGIN:STANDARD
DTSTART:19701025T030000
RRULE:FREQ=YEARLY;BYDAY=-1SU;BYMONTH=10
TZNAME:CET
TZOFFSETFROM:+0200
TZOFFSETTO:+0100
END:STANDARD
END:VTIMEZONE
END:VCALENDAR
