BEGIN:VCALENDAR
VERSION:2.0
PRODID:-//destination.one//NONSGML destination.meta API//DE
X-WR-CALDESC:A calendar powered by destination.meta
X-WR-CALNAME:moelln-tourismus Kalender via destination.meta
BEGIN:VEVENT
CATEGORIES:Ausstellung
CATEGORIES:Highlight
CATEGORIES:Veranstaltungskalender
DESCRIPTION:\n\nmehr Informationen unter http://pages.destination.one/de/mo
 elln-tourismus/streaming/detail/Event/e_101254538/oldtimer-und-sportwagent
 reffen
DTEND;TZID=Europe/Berlin:20260704T150000
DTSTAMP:20260420T083547Z
DTSTART;TZID=Europe/Berlin:20260704T100000
GEO:53.639197;10.696752
LOCATION:Süverkrüp Automobile GmbH & Co. KG\, Ratzeburger Straße 41\, Mölln
ORGANIZER;CN=Süverkrüp Automobile GmbH & Co. KG:mailto:axel.vontschirnhaus@
 sueverkruep.de
SEQUENCE:0
SUMMARY:Oldtimer und Sportwagentreffen
UID:e_101254538_iv0
URL:http://pages.destination.one/de/moelln-tourismus/streaming/detail/Event
 /e_101254538/oldtimer-und-sportwagentreffen
END:VEVENT
BEGIN:VTIMEZONE
TZID:Europe/Berlin
X-LIC-LOCATION:Europe/Berlin
BEGIN:DAYLIGHT
DTSTART:19700329T020000
RRULE:FREQ=YEARLY;BYDAY=-1SU;BYMONTH=3
TZNAME:CEST
TZOFFSETFROM:+0100
TZOFFSETTO:+0200
END:DAYLIGHT
BEGIN:STANDARD
DTSTART:19701025T030000
RRULE:FREQ=YEARLY;BYDAY=-1SU;BYMONTH=10
TZNAME:CET
TZOFFSETFROM:+0200
TZOFFSETTO:+0100
END:STANDARD
END:VTIMEZONE
END:VCALENDAR
