BEGIN:VCALENDAR
VERSION:2.0
PRODID:-//destination.one//NONSGML destination.meta API//DE
X-WR-CALDESC:A calendar powered by destination.meta
X-WR-CALNAME:moelln-tourismus Kalender via destination.meta
BEGIN:VEVENT
CATEGORIES:Bildung
CATEGORIES:Genuss/Gourmet
CATEGORIES:Geselligkeit/Spiele/Treffen
CATEGORIES:Kommunale Veranstaltungen
CATEGORIES:Kurs/Seminar/Hobby
CATEGORIES:Seminar
CATEGORIES:Sonstiges
CATEGORIES:Veranstaltungskalender
CATEGORIES:Vortrag/Lesung/Vorführung
DESCRIPTION:Reparieren statt Wegwerfen: Im Repair Café helfen ehrenamtliche
  Expert:innen dabei\, defekte Alltagsgegenstände gemeinsam wieder funktion
 sfähig zu machen. Werkzeug und Material sind vor Ort. In entspannter Atmos
 phäre mit Kaffee und Kuchen wird geschraubt\, getüftelt und Wissen geteilt
 .\n\ndeutsch\n \n \n \n \n \n \n \n \n \n \n \n \n \n \n \n\nDas Repair Ca
 fé ist eine Veranstaltung\, bei der sich alles rund ums Reparieren dreht. 
 Am Veranstaltungsort ist Werkzeug und Material vorhanden\, um alle möglich
 en Reparaturen auszuführen. Es sind kundige ehrenamtliche Helfer anwesend\
 , die Reparaturkenntnis und Fertigkeiten auf verschiedenen Gebieten mitbri
 ngen. Besucher bringen kaputte\n\nmehr Informationen unter http://pages.de
 stination.one/de/moelln-tourismus/streaming/detail/Event/e_101225367/repai
 r-caf-m-lln
DTEND;TZID=Europe/Berlin:20260321T170000
DTSTAMP:20260421T095443Z
DTSTART;TZID=Europe/Berlin:20260321T140000
GEO:53.628086;10.691521
LOCATION:Begegnungsstätte Lohgerberei\,  Bahide-Arslan-Gang \, Mölln
ORGANIZER;CN=Repair Café Mölln:mailto:info@repaircafe-moelln.de
RRULE:FREQ=MONTHLY;UNTIL=20261219T130000;BYDAY=3SA
SEQUENCE:0
SUMMARY:Repair Café Mölln
UID:e_101225367_iv0
URL:http://pages.destination.one/de/moelln-tourismus/streaming/detail/Event
 /e_101225367/repair-caf-m-lln
END:VEVENT
BEGIN:VTIMEZONE
TZID:Europe/Berlin
X-LIC-LOCATION:Europe/Berlin
BEGIN:DAYLIGHT
DTSTART:19700329T020000
RRULE:FREQ=YEARLY;BYDAY=-1SU;BYMONTH=3
TZNAME:CEST
TZOFFSETFROM:+0100
TZOFFSETTO:+0200
END:DAYLIGHT
BEGIN:STANDARD
DTSTART:19701025T030000
RRULE:FREQ=YEARLY;BYDAY=-1SU;BYMONTH=10
TZNAME:CET
TZOFFSETFROM:+0200
TZOFFSETTO:+0100
END:STANDARD
END:VTIMEZONE
END:VCALENDAR
