BEGIN:VCALENDAR
VERSION:2.0
PRODID:-//destination.one//NONSGML destination.meta API//DE
X-WR-CALDESC:A calendar powered by destination.meta
X-WR-CALNAME:moelln-tourismus Kalender via destination.meta
BEGIN:VEVENT
CATEGORIES:Kirche/Religion
DESCRIPTION:Programm zur Langen Nacht des Friedhofs\n\nmehr Informationen u
 nter http://pages.destination.one/de/moelln-tourismus/streaming/detail/Eve
 nt/e_101225306/lange-nacht-des-friedhofs
DTEND;TZID=Europe/Berlin:20260626T235900
DTSTAMP:20260422T161904Z
DTSTART;TZID=Europe/Berlin:20260626T180000
GEO:53.625095;10.690641
LOCATION:Alter Friedhof Mölln\, Hindenburgstraße \, Mölln
ORGANIZER;CN=Ev. luth. Kirchengemeinde Mölln:mailto:verwaltung@kirche-moell
 n.de
SEQUENCE:0
SUMMARY:Lange Nacht des Friedhofs
UID:e_101225306_iv0
URL:http://pages.destination.one/de/moelln-tourismus/streaming/detail/Event
 /e_101225306/lange-nacht-des-friedhofs
END:VEVENT
BEGIN:VTIMEZONE
TZID:Europe/Berlin
X-LIC-LOCATION:Europe/Berlin
BEGIN:DAYLIGHT
DTSTART:19700329T020000
RRULE:FREQ=YEARLY;BYDAY=-1SU;BYMONTH=3
TZNAME:CEST
TZOFFSETFROM:+0100
TZOFFSETTO:+0200
END:DAYLIGHT
BEGIN:STANDARD
DTSTART:19701025T030000
RRULE:FREQ=YEARLY;BYDAY=-1SU;BYMONTH=10
TZNAME:CET
TZOFFSETFROM:+0200
TZOFFSETTO:+0100
END:STANDARD
END:VTIMEZONE
END:VCALENDAR
