BEGIN:VCALENDAR
VERSION:2.0
PRODID:-//destination.one//NONSGML destination.meta API//DE
X-WR-CALDESC:A calendar powered by destination.meta
X-WR-CALNAME:moelln-tourismus Kalender via destination.meta
BEGIN:VEVENT
CATEGORIES:Konzert
DESCRIPTION:Kurzkonzert an der historischen Scherer-Bünting-Flentrop-Orgel 
 von Rosemarie Tougsas.\n\nmehr Informationen unter http://pages.destinatio
 n.one/de/moelln-tourismus/streaming/detail/Event/e_101224715/orgel-kurzkon
 zert
DTEND;TZID=Europe/Berlin:20260606T120000
DTSTAMP:20260421T094317Z
DTSTART;TZID=Europe/Berlin:20260606T113000
GEO:53.630453;10.691843
LOCATION:St. Nicolai Kirche zu Mölln \, Am Markt 10 \, Mölln
ORGANIZER;CN=Ev. luth. Kirchengemeinde Mölln:mailto:verwaltung@kirche-moell
 n.de
SEQUENCE:0
SUMMARY:Orgel-Kurzkonzert
UID:e_101224715_iv0
URL:http://pages.destination.one/de/moelln-tourismus/streaming/detail/Event
 /e_101224715/orgel-kurzkonzert
END:VEVENT
BEGIN:VTIMEZONE
TZID:Europe/Berlin
X-LIC-LOCATION:Europe/Berlin
BEGIN:DAYLIGHT
DTSTART:19700329T020000
RRULE:FREQ=YEARLY;BYDAY=-1SU;BYMONTH=3
TZNAME:CEST
TZOFFSETFROM:+0100
TZOFFSETTO:+0200
END:DAYLIGHT
BEGIN:STANDARD
DTSTART:19701025T030000
RRULE:FREQ=YEARLY;BYDAY=-1SU;BYMONTH=10
TZNAME:CET
TZOFFSETFROM:+0200
TZOFFSETTO:+0100
END:STANDARD
END:VTIMEZONE
END:VCALENDAR
