BEGIN:VCALENDAR
VERSION:2.0
PRODID:-//destination.one//NONSGML destination.meta API//DE
X-WR-CALDESC:A calendar powered by destination.meta
X-WR-CALNAME:moelln-tourismus Kalender via destination.meta
BEGIN:VEVENT
CATEGORIES:Kurs/Seminar/Hobby
DESCRIPTION:Blockflöten-Workshop\n\nmehr Informationen unter http://pages.d
 estination.one/de/moelln-tourismus/streaming/detail/Event/e_101223545/11-m
 -llner-blockfl-ten-happening
DTEND;TZID=Europe/Berlin:20260509T161500
DTSTAMP:20260421T095500Z
DTSTART;TZID=Europe/Berlin:20260509T100000
GEO:53.623339;10.687873
LOCATION:Heilig-Geist-Zentrum\, Immenstelle 13\, Mölln
ORGANIZER;CN=Ev.- Luth. Kirchengemeinde Mölln:mailto:verwaltung@kg-moelln.d
 e
SEQUENCE:0
SUMMARY:11. Möllner Blockflöten Happening
UID:e_101223545_iv0
URL:http://pages.destination.one/de/moelln-tourismus/streaming/detail/Event
 /e_101223545/11-m-llner-blockfl-ten-happening
END:VEVENT
BEGIN:VTIMEZONE
TZID:Europe/Berlin
X-LIC-LOCATION:Europe/Berlin
BEGIN:DAYLIGHT
DTSTART:19700329T020000
RRULE:FREQ=YEARLY;BYDAY=-1SU;BYMONTH=3
TZNAME:CEST
TZOFFSETFROM:+0100
TZOFFSETTO:+0200
END:DAYLIGHT
BEGIN:STANDARD
DTSTART:19701025T030000
RRULE:FREQ=YEARLY;BYDAY=-1SU;BYMONTH=10
TZNAME:CET
TZOFFSETFROM:+0200
TZOFFSETTO:+0100
END:STANDARD
END:VTIMEZONE
END:VCALENDAR
