BEGIN:VCALENDAR
VERSION:2.0
PRODID:-//destination.one//NONSGML destination.meta API//DE
X-WR-CALDESC:A calendar powered by destination.meta
X-WR-CALNAME:moelln-tourismus Kalender via destination.meta
BEGIN:VEVENT
CATEGORIES:Theater
CATEGORIES:Tickets
DESCRIPTION:Die Eulenspiegelaien präsentieren: „Kaufhaus in Trouble“\n\nmeh
 r Informationen unter http://pages.destination.one/de/moelln-tourismus/str
 eaming/detail/Event/e_101222449/kaufhaus-in-trouble
DTEND;TZID=Europe/Berlin:20260508T213000
DTSTAMP:20260421T095500Z
DTSTART;TZID=Europe/Berlin:20260508T193000
GEO:53.630084;10.691671
LOCATION:Mölln\, Am Markt 12\, Mölln
ORGANIZER;CN=Eulenspiegelaien Theatergruppe der MSV:mailto:info@eulenspiege
 laien.de
SEQUENCE:0
SUMMARY:Kaufhaus in Trouble
UID:e_101222449_iv0
URL:http://pages.destination.one/de/moelln-tourismus/streaming/detail/Event
 /e_101222449/kaufhaus-in-trouble
END:VEVENT
BEGIN:VEVENT
CATEGORIES:Theater
CATEGORIES:Tickets
DESCRIPTION:Die Eulenspiegelaien präsentieren: „Kaufhaus in Trouble“\n\nmeh
 r Informationen unter http://pages.destination.one/de/moelln-tourismus/str
 eaming/detail/Event/e_101222449/kaufhaus-in-trouble
DTEND;TZID=Europe/Berlin:20260509T210000
DTSTAMP:20260421T095500Z
DTSTART;TZID=Europe/Berlin:20260509T193000
GEO:53.630084;10.691671
LOCATION:Mölln\, Am Markt 12\, Mölln
ORGANIZER;CN=Eulenspiegelaien Theatergruppe der MSV:mailto:info@eulenspiege
 laien.de
SEQUENCE:0
SUMMARY:Kaufhaus in Trouble
UID:e_101222449_iv1
URL:http://pages.destination.one/de/moelln-tourismus/streaming/detail/Event
 /e_101222449/kaufhaus-in-trouble
END:VEVENT
BEGIN:VTIMEZONE
TZID:Europe/Berlin
X-LIC-LOCATION:Europe/Berlin
BEGIN:DAYLIGHT
DTSTART:19700329T020000
RRULE:FREQ=YEARLY;BYDAY=-1SU;BYMONTH=3
TZNAME:CEST
TZOFFSETFROM:+0100
TZOFFSETTO:+0200
END:DAYLIGHT
BEGIN:STANDARD
DTSTART:19701025T030000
RRULE:FREQ=YEARLY;BYDAY=-1SU;BYMONTH=10
TZNAME:CET
TZOFFSETFROM:+0200
TZOFFSETTO:+0100
END:STANDARD
END:VTIMEZONE
END:VCALENDAR
