BEGIN:VCALENDAR
VERSION:2.0
PRODID:-//destination.one//NONSGML destination.meta API//DE
X-WR-CALDESC:A calendar powered by destination.meta
X-WR-CALNAME:moelln-tourismus Kalender via destination.meta
BEGIN:VEVENT
CATEGORIES:Konzert
DESCRIPTION:Benefizkonzert an der Scherer-Bünting-Flentrop-Orgel\n\nmehr In
 formationen unter http://pages.destination.one/de/moelln-tourismus/streami
 ng/detail/Event/e_101222193/orgelkonzert
DTEND;TZID=Europe/Berlin:20260425T193000
DTSTAMP:20260424T082010Z
DTSTART;TZID=Europe/Berlin:20260425T183000
GEO:53.630453;10.691843
LOCATION:St. Nicolai Kirche zu Mölln \, Am Markt 10 \, Mölln
ORGANIZER;CN=Ev.- Luth. Kirchengemeinde Mölln:mailto:verwaltung@kg-moelln.d
 e
SEQUENCE:0
SUMMARY:Orgelkonzert
UID:e_101222193_iv0
URL:http://pages.destination.one/de/moelln-tourismus/streaming/detail/Event
 /e_101222193/orgelkonzert
END:VEVENT
BEGIN:VTIMEZONE
TZID:Europe/Berlin
X-LIC-LOCATION:Europe/Berlin
BEGIN:DAYLIGHT
DTSTART:19700329T020000
RRULE:FREQ=YEARLY;BYDAY=-1SU;BYMONTH=3
TZNAME:CEST
TZOFFSETFROM:+0100
TZOFFSETTO:+0200
END:DAYLIGHT
BEGIN:STANDARD
DTSTART:19701025T030000
RRULE:FREQ=YEARLY;BYDAY=-1SU;BYMONTH=10
TZNAME:CET
TZOFFSETFROM:+0200
TZOFFSETTO:+0100
END:STANDARD
END:VTIMEZONE
END:VCALENDAR
