BEGIN:VCALENDAR
VERSION:2.0
PRODID:-//destination.one//NONSGML destination.meta API//DE
X-WR-CALDESC:A calendar powered by destination.meta
X-WR-CALNAME:moelln-tourismus Kalender via destination.meta
BEGIN:VEVENT
CATEGORIES:Kino
DESCRIPTION:Das Eulenspiegelkino zeigt: „Amrum“\n\nmehr Informationen unter
  http://pages.destination.one/de/moelln-tourismus/streaming/detail/Event/e
 _101222191/eulenspiegelkino-amrum-im-landfrauen-kino-beim-augustinum-m-lln
DTEND;TZID=Europe/Berlin:20260414T211500
DTSTAMP:20260422T090831Z
DTSTART;TZID=Europe/Berlin:20260414T190000
GEO:53.631789;10.709374
LOCATION:Eulenspiegelkino\, Sterleyer Str. 44\, Mölln
ORGANIZER;CN=Eulenspiegelkino:mailto:info@btrz.de
SEQUENCE:0
SUMMARY:Eulenspiegelkino "AMRUM" im LandFrauen Kino beim Augustinum Mölln
UID:e_101222191_iv0
URL:http://pages.destination.one/de/moelln-tourismus/streaming/detail/Event
 /e_101222191/eulenspiegelkino-amrum-im-landfrauen-kino-beim-augustinum-m-l
 ln
END:VEVENT
BEGIN:VTIMEZONE
TZID:Europe/Berlin
X-LIC-LOCATION:Europe/Berlin
BEGIN:DAYLIGHT
DTSTART:19700329T020000
RRULE:FREQ=YEARLY;BYDAY=-1SU;BYMONTH=3
TZNAME:CEST
TZOFFSETFROM:+0100
TZOFFSETTO:+0200
END:DAYLIGHT
BEGIN:STANDARD
DTSTART:19701025T030000
RRULE:FREQ=YEARLY;BYDAY=-1SU;BYMONTH=10
TZNAME:CET
TZOFFSETFROM:+0200
TZOFFSETTO:+0100
END:STANDARD
END:VTIMEZONE
END:VCALENDAR
