BEGIN:VCALENDAR
VERSION:2.0
PRODID:-//destination.one//NONSGML destination.meta API//DE
X-WR-CALDESC:A calendar powered by destination.meta
X-WR-CALNAME:moelln-tourismus Kalender via destination.meta
BEGIN:VEVENT
CATEGORIES:Familie
CATEGORIES:Flohmarkt
CATEGORIES:Geselligkeit/Spiele/Treffen
CATEGORIES:Kinder
CATEGORIES:Veranstaltungskalender
DESCRIPTION:Kinderfest im Möllner Tierheim\n\nmehr Informationen unter http
 ://pages.destination.one/de/moelln-tourismus/streaming/detail/Event/e_1012
 21290/kinderfest-im-tierheim-m-lln
DTEND;TZID=Europe/Berlin:20260426T160000
DTSTAMP:20260422T085551Z
DTSTART;TZID=Europe/Berlin:20260426T110000
GEO:53.604015;10.673161
LOCATION:Tierschutz Mölln/Lbg. und Umgebung e.V.\, Zeppelinweg 13\, Mölln
ORGANIZER;CN=Tierschutz Mölln/Lbg.  und Umgebung e. V.:mailto:andrea.weise@
 tierschutz-moelln.de
SEQUENCE:0
SUMMARY:Kinderfest im Tierheim Mölln
UID:e_101221290_iv0
URL:http://pages.destination.one/de/moelln-tourismus/streaming/detail/Event
 /e_101221290/kinderfest-im-tierheim-m-lln
END:VEVENT
BEGIN:VTIMEZONE
TZID:Europe/Berlin
X-LIC-LOCATION:Europe/Berlin
BEGIN:DAYLIGHT
DTSTART:19700329T020000
RRULE:FREQ=YEARLY;BYDAY=-1SU;BYMONTH=3
TZNAME:CEST
TZOFFSETFROM:+0100
TZOFFSETTO:+0200
END:DAYLIGHT
BEGIN:STANDARD
DTSTART:19701025T030000
RRULE:FREQ=YEARLY;BYDAY=-1SU;BYMONTH=10
TZNAME:CET
TZOFFSETFROM:+0200
TZOFFSETTO:+0100
END:STANDARD
END:VTIMEZONE
END:VCALENDAR
