BEGIN:VCALENDAR
VERSION:2.0
PRODID:-//destination.one//NONSGML destination.meta API//DE
X-WR-CALDESC:A calendar powered by destination.meta
X-WR-CALNAME:moelln-tourismus Kalender via destination.meta
BEGIN:VEVENT
CATEGORIES:Shopping
DESCRIPTION:Der Möllner Einzelhandel lädt zum Shoppen und Bummeln ein.\n\nm
 ehr Informationen unter http://pages.destination.one/de/moelln-tourismus/s
 treaming/detail/Event/e_101178123/verkaufsoffen-in-m-lln
DTEND;TZID=Europe/Berlin:20261031T180000
DTSTAMP:20260420T084913Z
DTSTART;TZID=Europe/Berlin:20261031T130000
GEO:53.626483;10.686200
LOCATION:Innenstadt von Mölln\, Bauhof\, Mölln
ORGANIZER;CN=Stadt Mölln:mailto:stadt@moelln.de
SEQUENCE:0
SUMMARY:Verkaufsoffen in Mölln
UID:e_101178123_iv0
URL:http://pages.destination.one/de/moelln-tourismus/streaming/detail/Event
 /e_101178123/verkaufsoffen-in-m-lln
END:VEVENT
BEGIN:VEVENT
CATEGORIES:Shopping
DESCRIPTION:Der Möllner Einzelhandel lädt zum Shoppen und Bummeln ein.\n\nm
 ehr Informationen unter http://pages.destination.one/de/moelln-tourismus/s
 treaming/detail/Event/e_101178123/verkaufsoffen-in-m-lln
DTEND;TZID=Europe/Berlin:20261101T180000
DTSTAMP:20260420T084913Z
DTSTART;TZID=Europe/Berlin:20261101T130000
GEO:53.626483;10.686200
LOCATION:Innenstadt von Mölln\, Bauhof\, Mölln
ORGANIZER;CN=Stadt Mölln:mailto:stadt@moelln.de
SEQUENCE:0
SUMMARY:Verkaufsoffen in Mölln
UID:e_101178123_iv1
URL:http://pages.destination.one/de/moelln-tourismus/streaming/detail/Event
 /e_101178123/verkaufsoffen-in-m-lln
END:VEVENT
BEGIN:VTIMEZONE
TZID:Europe/Berlin
X-LIC-LOCATION:Europe/Berlin
BEGIN:DAYLIGHT
DTSTART:19700329T020000
RRULE:FREQ=YEARLY;BYDAY=-1SU;BYMONTH=3
TZNAME:CEST
TZOFFSETFROM:+0100
TZOFFSETTO:+0200
END:DAYLIGHT
BEGIN:STANDARD
DTSTART:19701025T030000
RRULE:FREQ=YEARLY;BYDAY=-1SU;BYMONTH=10
TZNAME:CET
TZOFFSETFROM:+0200
TZOFFSETTO:+0100
END:STANDARD
END:VTIMEZONE
END:VCALENDAR
