BEGIN:VCALENDAR
VERSION:2.0
PRODID:-//destination.one//NONSGML destination.meta API//DE
X-WR-CALDESC:A calendar powered by destination.meta
X-WR-CALNAME:moelln-tourismus Kalender via destination.meta
BEGIN:VEVENT
CATEGORIES:Bildung
CATEGORIES:Brauchtum/Kultur
CATEGORIES:Herbst
CATEGORIES:Natur
CATEGORIES:Region
CATEGORIES:Sonstiges
CATEGORIES:Uhlenkolk
CATEGORIES:Veranstaltungskalender
DESCRIPTION:Eine Exkursion für Erwachsene\n\nmehr Informationen unter http:
 //pages.destination.one/de/moelln-tourismus/streaming/detail/Event/e_10103
 1725/ranger-tour-b-ume-des-waldes-im-herbst-bedeutung-bei-den-germanen-und
 -kelten
DTEND;TZID=Europe/Berlin:20251015T170000
DTSTAMP:20260420T103739Z
DTSTART;TZID=Europe/Berlin:20251015T150000
GEO:53.675055;10.751129
LOCATION:Treffpunkt: Naturpark Lauenburgische Seen\, Farchauer Weg 7\, Fred
 eburg
ORGANIZER;CN=Naturpark Lauenburgische Seen:mailto:info@naturpark-lauenburgi
 sche-seen.de
SEQUENCE:0
SUMMARY:Ranger-Tour: Bäume des Waldes im Herbst – Bedeutung bei den Germane
 n und Kelten
UID:e_101031725_iv0
URL:http://pages.destination.one/de/moelln-tourismus/streaming/detail/Event
 /e_101031725/ranger-tour-b-ume-des-waldes-im-herbst-bedeutung-bei-den-germ
 anen-und-kelten
END:VEVENT
BEGIN:VEVENT
CATEGORIES:Bildung
CATEGORIES:Brauchtum/Kultur
CATEGORIES:Herbst
CATEGORIES:Natur
CATEGORIES:Region
CATEGORIES:Sonstiges
CATEGORIES:Uhlenkolk
CATEGORIES:Veranstaltungskalender
DESCRIPTION:Eine Exkursion für Erwachsene\n\nmehr Informationen unter http:
 //pages.destination.one/de/moelln-tourismus/streaming/detail/Event/e_10103
 1725/ranger-tour-b-ume-des-waldes-im-herbst-bedeutung-bei-den-germanen-und
 -kelten
DTEND;TZID=Europe/Berlin:20261018T150000
DTSTAMP:20260420T103739Z
DTSTART;TZID=Europe/Berlin:20261018T130000
GEO:53.675055;10.751129
LOCATION:Treffpunkt: Naturpark Lauenburgische Seen\, Farchauer Weg 7\, Fred
 eburg
ORGANIZER;CN=Naturpark Lauenburgische Seen:mailto:info@naturpark-lauenburgi
 sche-seen.de
SEQUENCE:0
SUMMARY:Ranger-Tour: Bäume des Waldes im Herbst – Bedeutung bei den Germane
 n und Kelten
UID:e_101031725_iv1
URL:http://pages.destination.one/de/moelln-tourismus/streaming/detail/Event
 /e_101031725/ranger-tour-b-ume-des-waldes-im-herbst-bedeutung-bei-den-germ
 anen-und-kelten
END:VEVENT
BEGIN:VTIMEZONE
TZID:Europe/Berlin
X-LIC-LOCATION:Europe/Berlin
BEGIN:DAYLIGHT
DTSTART:19700329T020000
RRULE:FREQ=YEARLY;BYDAY=-1SU;BYMONTH=3
TZNAME:CEST
TZOFFSETFROM:+0100
TZOFFSETTO:+0200
END:DAYLIGHT
BEGIN:STANDARD
DTSTART:19701025T030000
RRULE:FREQ=YEARLY;BYDAY=-1SU;BYMONTH=10
TZNAME:CET
TZOFFSETFROM:+0200
TZOFFSETTO:+0100
END:STANDARD
END:VTIMEZONE
END:VCALENDAR
