BEGIN:VCALENDAR
VERSION:2.0
PRODID:-//destination.one//NONSGML destination.meta API//DE
X-WR-CALDESC:A calendar powered by destination.meta
X-WR-CALNAME:moelln-tourismus Kalender via destination.meta
BEGIN:VEVENT
CATEGORIES:Exkursion
CATEGORIES:Natur
CATEGORIES:Wandern
CATEGORIES:Uhlenkolk
CATEGORIES:Veranstaltungskalender
CATEGORIES:Sport/Freizeit
DESCRIPTION:Wanderung rund um den Lankower See und auf der ehemaligen „Zone
 ngrenze“\n\nmehr Informationen unter http://pages.destination.one/de/moell
 n-tourismus/streaming/detail/Event/e_100982399/naturparktour-gro-e-wanderu
 ng-am-gr-nen-band
DTEND;TZID=Europe/Berlin:20250622T153000
DTSTAMP:20260422T090648Z
DTSTART;TZID=Europe/Berlin:20250622T103000
GEO:53.693111;10.853208
LOCATION:Treffpunkt: Wanderparkplatz an der B208\, B 208 - östlich von Sand
 e\, Ziethen
ORGANIZER;CN="Naturpark Lauenburgische Seen, 23909 Fredeburg":mailto:info@n
 aturpark-lauenburgische-seen.de
SEQUENCE:0
SUMMARY:Naturparktour: Große Wanderung am Grünen Band
UID:e_100982399_iv0
URL:http://pages.destination.one/de/moelln-tourismus/streaming/detail/Event
 /e_100982399/naturparktour-gro-e-wanderung-am-gr-nen-band
END:VEVENT
BEGIN:VEVENT
CATEGORIES:Exkursion
CATEGORIES:Natur
CATEGORIES:Wandern
CATEGORIES:Uhlenkolk
CATEGORIES:Veranstaltungskalender
CATEGORIES:Sport/Freizeit
DESCRIPTION:Wanderung rund um den Lankower See und auf der ehemaligen „Zone
 ngrenze“\n\nmehr Informationen unter http://pages.destination.one/de/moell
 n-tourismus/streaming/detail/Event/e_100982399/naturparktour-gro-e-wanderu
 ng-am-gr-nen-band
DTEND;TZID=Europe/Berlin:20260726T150000
DTSTAMP:20260422T090648Z
DTSTART;TZID=Europe/Berlin:20260726T103000
GEO:53.693111;10.853208
LOCATION:Treffpunkt: Wanderparkplatz an der B208\, B 208 - östlich von Sand
 e\, Ziethen
ORGANIZER;CN="Naturpark Lauenburgische Seen, 23909 Fredeburg":mailto:info@n
 aturpark-lauenburgische-seen.de
SEQUENCE:0
SUMMARY:Naturparktour: Große Wanderung am Grünen Band
UID:e_100982399_iv1
URL:http://pages.destination.one/de/moelln-tourismus/streaming/detail/Event
 /e_100982399/naturparktour-gro-e-wanderung-am-gr-nen-band
END:VEVENT
BEGIN:VTIMEZONE
TZID:Europe/Berlin
X-LIC-LOCATION:Europe/Berlin
BEGIN:DAYLIGHT
DTSTART:19700329T020000
RRULE:FREQ=YEARLY;BYDAY=-1SU;BYMONTH=3
TZNAME:CEST
TZOFFSETFROM:+0100
TZOFFSETTO:+0200
END:DAYLIGHT
BEGIN:STANDARD
DTSTART:19701025T030000
RRULE:FREQ=YEARLY;BYDAY=-1SU;BYMONTH=10
TZNAME:CET
TZOFFSETFROM:+0200
TZOFFSETTO:+0100
END:STANDARD
END:VTIMEZONE
END:VCALENDAR
