BEGIN:VCALENDAR
VERSION:2.0
PRODID:-//destination.one//NONSGML destination.meta API//DE
X-WR-CALDESC:A calendar powered by destination.meta
X-WR-CALNAME:moelln-tourismus Kalender via destination.meta
BEGIN:VEVENT
CATEGORIES:Stiftung
CATEGORIES:Vortrag/Lesung/Vorführung
CATEGORIES:Konzert
DESCRIPTION:LitEnsemble\, Hamburg\n\nmehr Informationen unter http://pages.
 destination.one/de/moelln-tourismus/streaming/detail/Event/e_100883064/ein
 -abend-f-r-mascha-kal-ko-sei-klug-und-halte-dich-an-wunder
DTEND;TZID=Europe/Berlin:20260418T235900
DTSTAMP:20260421T095842Z
DTSTART;TZID=Europe/Berlin:20260418T193000
GEO:53.630688;10.693313
LOCATION:Stadthauptmannshof \, Hauptstraße 150 \, Mölln
SEQUENCE:0
SUMMARY:Ein Abend für Mascha Kaléko – Sei klug und halte dich an Wunder
UID:e_100883064_iv0
URL:http://pages.destination.one/de/moelln-tourismus/streaming/detail/Event
 /e_100883064/ein-abend-f-r-mascha-kal-ko-sei-klug-und-halte-dich-an-wunder
END:VEVENT
BEGIN:VTIMEZONE
TZID:Europe/Berlin
X-LIC-LOCATION:Europe/Berlin
BEGIN:DAYLIGHT
DTSTART:19700329T020000
RRULE:FREQ=YEARLY;BYDAY=-1SU;BYMONTH=3
TZNAME:CEST
TZOFFSETFROM:+0100
TZOFFSETTO:+0200
END:DAYLIGHT
BEGIN:STANDARD
DTSTART:19701025T030000
RRULE:FREQ=YEARLY;BYDAY=-1SU;BYMONTH=10
TZNAME:CET
TZOFFSETFROM:+0200
TZOFFSETTO:+0100
END:STANDARD
END:VTIMEZONE
END:VCALENDAR
