BEGIN:VCALENDAR
VERSION:2.0
PRODID:-//destination.one//NONSGML destination.meta API//DE
X-WR-CALDESC:A calendar powered by destination.meta
X-WR-CALNAME:moelln-tourismus Kalender via destination.meta
BEGIN:VEVENT
CATEGORIES:Stiftung
CATEGORIES:Vortrag/Lesung/Vorführung
DESCRIPTION:Vorträge von Dr.-Ing. Margita Meyer\, Kiel + Dr. Joachim Jacobs
 \, Berlin\n\nmehr Informationen unter http://pages.destination.one/de/moel
 ln-tourismus/streaming/detail/Event/e_100882499/historische-g-rten-im-herz
 ogtum-lauenburg
DTEND;TZID=Europe/Berlin:20260423T235900
DTSTAMP:20260421T083138Z
DTSTART;TZID=Europe/Berlin:20260423T193000
GEO:53.630688;10.693313
LOCATION:Stadthauptmannshof \, Hauptstraße 150 \, Mölln
SEQUENCE:0
SUMMARY:Historische Gärten im Herzogtum Lauenburg 
UID:e_100882499_iv0
URL:http://pages.destination.one/de/moelln-tourismus/streaming/detail/Event
 /e_100882499/historische-g-rten-im-herzogtum-lauenburg
END:VEVENT
BEGIN:VTIMEZONE
TZID:Europe/Berlin
X-LIC-LOCATION:Europe/Berlin
BEGIN:DAYLIGHT
DTSTART:19700329T020000
RRULE:FREQ=YEARLY;BYDAY=-1SU;BYMONTH=3
TZNAME:CEST
TZOFFSETFROM:+0100
TZOFFSETTO:+0200
END:DAYLIGHT
BEGIN:STANDARD
DTSTART:19701025T030000
RRULE:FREQ=YEARLY;BYDAY=-1SU;BYMONTH=10
TZNAME:CET
TZOFFSETFROM:+0200
TZOFFSETTO:+0100
END:STANDARD
END:VTIMEZONE
END:VCALENDAR
