BEGIN:VCALENDAR
VERSION:2.0
PRODID:-//destination.one//NONSGML destination.meta API//DE
X-WR-CALDESC:A calendar powered by destination.meta
X-WR-CALNAME:moelln-tourismus Kalender via destination.meta
BEGIN:VEVENT
CATEGORIES:Exkursion
CATEGORIES:Frühling
CATEGORIES:Natur
CATEGORIES:Uhlenkolk
CATEGORIES:Veranstaltungskalender
CATEGORIES:Wandern
DESCRIPTION:Feldlerche\, Heidelerche und Co.\n\nmehr Informationen unter ht
 tp://pages.destination.one/de/moelln-tourismus/streaming/detail/Event/e_10
 0418156/naturpark-tour-zu-besuch-bei-rebhuhn-und-co
DTEND;TZID=Europe/Berlin:20220418T110000
DTSTAMP:20260421T110559Z
DTSTART;TZID=Europe/Berlin:20220418T090000
GEO:53.499151;10.741367
LOCATION:Treffpunkt: Parkplatz am Dorfgemeinschaftshaus\, Dorfstraße/Wiesen
 grund\, Langenlehsten
ORGANIZER;CN="Treffpunkt: Naturpark Lauenburgische Seen":mailto:info@naturp
 ark-lauenburgische-seen.de
SEQUENCE:0
SUMMARY:Naturpark-Tour: Zu Besuch bei Rebhuhn und Co.
UID:e_100418156_iv0
URL:http://pages.destination.one/de/moelln-tourismus/streaming/detail/Event
 /e_100418156/naturpark-tour-zu-besuch-bei-rebhuhn-und-co
END:VEVENT
BEGIN:VEVENT
CATEGORIES:Exkursion
CATEGORIES:Frühling
CATEGORIES:Natur
CATEGORIES:Uhlenkolk
CATEGORIES:Veranstaltungskalender
CATEGORIES:Wandern
DESCRIPTION:Feldlerche\, Heidelerche und Co.\n\nmehr Informationen unter ht
 tp://pages.destination.one/de/moelln-tourismus/streaming/detail/Event/e_10
 0418156/naturpark-tour-zu-besuch-bei-rebhuhn-und-co
DTEND;TZID=Europe/Berlin:20260509T110000
DTSTAMP:20260421T110559Z
DTSTART;TZID=Europe/Berlin:20260509T090000
GEO:53.499151;10.741367
LOCATION:Treffpunkt: Parkplatz am Dorfgemeinschaftshaus\, Dorfstraße/Wiesen
 grund\, Langenlehsten
ORGANIZER;CN="Treffpunkt: Naturpark Lauenburgische Seen":mailto:info@naturp
 ark-lauenburgische-seen.de
SEQUENCE:0
SUMMARY:Naturpark-Tour: Zu Besuch bei Rebhuhn und Co.
UID:e_100418156_iv1
URL:http://pages.destination.one/de/moelln-tourismus/streaming/detail/Event
 /e_100418156/naturpark-tour-zu-besuch-bei-rebhuhn-und-co
END:VEVENT
BEGIN:VTIMEZONE
TZID:Europe/Berlin
X-LIC-LOCATION:Europe/Berlin
BEGIN:DAYLIGHT
DTSTART:19700329T020000
RRULE:FREQ=YEARLY;BYDAY=-1SU;BYMONTH=3
TZNAME:CEST
TZOFFSETFROM:+0100
TZOFFSETTO:+0200
END:DAYLIGHT
BEGIN:STANDARD
DTSTART:19701025T030000
RRULE:FREQ=YEARLY;BYDAY=-1SU;BYMONTH=10
TZNAME:CET
TZOFFSETFROM:+0200
TZOFFSETTO:+0100
END:STANDARD
END:VTIMEZONE
END:VCALENDAR
